BEGIN:VCALENDAR
PRODID:-//AT Content Types//AT Event//EN
VERSION:1.0
BEGIN:VEVENT
DTSTART:20090921T193000Z
DTEND:20090921T210000Z
DCREATED:20090917T185410Z
UID:ATEvent-e410693ac72ea5d5cb9773da5ead2e77
SEQUENCE:0
LAST-MODIFIED:20090917T185410Z
SUMMARY:Orepokan bildon
DESCRIPTION:Orepokan bildon
LOCATION:Tomsgårdsvej 35\, 1a etaĝo
PRIORITY:3
TRANSP:0
END:VEVENT
END:VCALENDAR
