BEGIN:VCALENDAR
PRODID:-//AT Content Types//AT Event//EN
VERSION:2.0
METHOD:PUBLISH
BEGIN:VEVENT
DTSTAMP:20260423T055727Z
CREATED:20080219T161058Z
UID:ATEvent-dd3bf4c6bb5a3e6ce47cff159a6d8a70
LAST-MODIFIED:20080219T161058Z
SUMMARY:Ordinara kunsido en Malmö.
DTSTART:20080507T183000Z
DTEND:20080507T203000Z
DESCRIPTION:Ni diskutos kaj decidos pri kursoj kaj programeroj dum la 
 autuno
LOCATION:Kronetorpsgatan 94  Malmö
CLASS:PUBLIC
END:VEVENT
END:VCALENDAR
