BEGIN:VCALENDAR
PRODID:-//AT Content Types//AT Event//EN
VERSION:2.0
METHOD:PUBLISH
BEGIN:VEVENT
DTSTAMP:20260423T013757Z
CREATED:20100114T123914Z
UID:ATEvent-d9c4dc47fec29c7a3713591a5511073a
LAST-MODIFIED:20100117T222423Z
SUMMARY:Ole Therkelsen prezentas sian libron\, Martinus og den ny verdensmoral
DTSTART:20100118T193000Z
DTEND:20100118T210000Z
LOCATION:Tomsgårdsvej 35\, 2400 Kph NV
CATEGORIES:KEK arangxo.
CLASS:PUBLIC
END:VEVENT
END:VCALENDAR
