BEGIN:VCALENDAR
PRODID:-//AT Content Types//AT Event//EN
VERSION:1.0
BEGIN:VEVENT
DTSTART:20100111T193000Z
DTEND:20100111T210000Z
DCREATED:20100108T175959Z
UID:ATEvent-f9112549cad94f16495e181a56269a96
SEQUENCE:0
LAST-MODIFIED:20100108T223717Z
SUMMARY:Ni kontribuu pri tipe dana . .
LOCATION:Tomsgårdsvej 35\, 2400 Kph NV
PRIORITY:3
TRANSP:0
END:VEVENT
END:VCALENDAR
