BEGIN:VCALENDAR
PRODID:-//AT Content Types//AT Event//EN
VERSION:2.0
METHOD:PUBLISH
BEGIN:VEVENT
DTSTAMP:20260423T075408Z
CREATED:20070524T134047Z
UID:ATEvent-f0f44b36d722925cef31fc3a550ff6ee
LAST-MODIFIED:20070623T194804Z
SUMMARY:Ne estos partopreno en la Malmö-Festivalo
DTSTART:20070813T134000Z
DTEND:20070819T134000Z
DESCRIPTION:Mi j'us ricevis respondon de Malmö-festivalen ke ili beda
 urinde ne enmetos nin en la programon c'i-jare sed petas nin reveni en
  venotaj jaroj.\nSten
LOCATION:Malmö
CLASS:PUBLIC
END:VEVENT
END:VCALENDAR
