BEGIN:VCALENDAR
PRODID:-//AT Content Types//AT Event//EN
VERSION:1.0
BEGIN:VEVENT
DTSTART:20080331T193000Z
DTEND:20080331T210000Z
DCREATED:20080329T083937Z
UID:ATEvent-eb32428e9e664cff1d98a543ef26519c
SEQUENCE:0
LAST-MODIFIED:20080329T083937Z
SUMMARY:memoru la prelegon en KEK la 31-an de marto.
DESCRIPTION:Prelego\: "Kion esperanto signifas por ni"\; blindaj esper
 antistoj raportas.\n \n Søren Willemoes Jørgensen kaj Lars Pilegård
  .
LOCATION:La kulturdomo\, Dortheasvej 61\, 2400 Kopenhago NV
PRIORITY:3
TRANSP:0
END:VEVENT
END:VCALENDAR
