BEGIN:VCALENDAR
PRODID:-//AT Content Types//AT Event//EN
VERSION:2.0
METHOD:PUBLISH
BEGIN:VEVENT
DTSTAMP:20260423T060219Z
CREATED:20080219T154923Z
UID:ATEvent-ef33694893b746a4739554002b314a2e
LAST-MODIFIED:20080219T155136Z
SUMMARY:Memoroj el mia frua esperantovivo
DTSTART:20080326T183000Z
DTEND:20080326T205500Z
DESCRIPTION:Lisbet Andreasson rakontos
LOCATION:Kronetorpsgatan 94 Malmö
CLASS:PUBLIC
END:VEVENT
END:VCALENDAR
