BEGIN:VCALENDAR
PRODID:-//AT Content Types//AT Event//EN
VERSION:2.0
METHOD:PUBLISH
BEGIN:VEVENT
DTSTAMP:20260423T061132Z
CREATED:20080525T171814Z
UID:ATEvent-33f84dde6af1bb56227c2801ca2bfc6b
LAST-MODIFIED:20080825T100300Z
SUMMARY:Malmö Festivalen
DTSTART:20080815T000000Z
DTEND:20080822T000000Z
DESCRIPTION:Dum la Malmöa Festivalo ni intencas disdoni informilojn k
 un invito al kurso. Ni agados en 2-personaj grupetoj\, ĉiuj vestitaj 
 en esperanta ĉemizo.\nĜis nun aliĝis al la agado Sten\, Kim\, Per-O
 lov\, Alf\, Gerd\, Agneta kaj Karin R.\nĈu vi volas kunlabori? Kontak
 tu Sten. stenxagado.net (Anstataŭigu x per @).
LOCATION:Malmö
CONTACT:Sten
CLASS:PUBLIC
END:VEVENT
END:VCALENDAR
