BEGIN:VCALENDAR
PRODID:-//AT Content Types//AT Event//EN
VERSION:1.0
BEGIN:VEVENT
DTSTART:20080428T193000Z
DTEND:20080428T210000Z
DCREATED:20080422T072030Z
UID:ATEvent-11329e6704ef6e6b288742e8d5ff1085
SEQUENCE:0
LAST-MODIFIED:20080422T072030Z
SUMMARY:Lunda kunveno cxe KEK
DESCRIPTION:Prelegeto kaj grupa babilado
LOCATION:KEK. Kulturdomo\, Dortheasvej 61\, 2400 Kopenhago NV
PRIORITY:3
TRANSP:0
END:VEVENT
END:VCALENDAR
