BEGIN:VCALENDAR
PRODID:-//AT Content Types//AT Event//EN
VERSION:1.0
BEGIN:VEVENT
DTSTART:20091207T193000Z
DTEND:20091207T210000Z
DCREATED:20091204T133513Z
UID:ATEvent-322999bf5997b98742c177b355e2747e
SEQUENCE:0
LAST-MODIFIED:20091204T133513Z
SUMMARY:Libroaŭkcio
LOCATION:Tomsgårdsvej 35\, 2400 Kph NV
PRIORITY:3
TRANSP:0
END:VEVENT
END:VCALENDAR
