BEGIN:VCALENDAR
PRODID:-//AT Content Types//AT Event//EN
VERSION:1.0
BEGIN:VEVENT
DTSTART:20080227T183000Z
DTEND:20080227T213000Z
DCREATED:20071229T211418Z
UID:ATEvent-88efc60d46b292aab608ac79c1097e25
SEQUENCE:0
LAST-MODIFIED:20080130T072349Z
SUMMARY:Aukcio
DESCRIPTION:Aukcio de libroj en esperanto kaj diversaj objektoj.\n\nBo
 nvenon al trivsama vespero inter ridoj kaj amuzaj objektoj!
LOCATION:Kronetorpsgatan 94\, Malmö
PRIORITY:3
TRANSP:0
END:VEVENT
END:VCALENDAR
