BEGIN:VCALENDAR
PRODID:-//AT Content Types//AT Event//EN
VERSION:1.0
BEGIN:VEVENT
DTSTART:20090824T193000Z
DTEND:20090824T210000Z
DCREATED:20090823T054312Z
UID:ATEvent-9875e0563c57b31d6e0c071ab65611a4
SEQUENCE:0
LAST-MODIFIED:20090823T054312Z
SUMMARY:Legitan libron
LOCATION:Dortheavej 61\, 2-a etaĝo
PRIORITY:3
TRANSP:0
END:VEVENT
END:VCALENDAR
