BEGIN:VCALENDAR
PRODID:-//AT Content Types//AT Event//EN
VERSION:2.0
METHOD:PUBLISH
BEGIN:VEVENT
DTSTAMP:20260423T013709Z
CREATED:20100129T223417Z
UID:ATEvent-3750783eb2672580fbfc3aef34d83642
LAST-MODIFIED:20100130T161235Z
SUMMARY:Legita libro\, ĉiu prezentas sian
DTSTART:20100201T193000Z
DTEND:20100201T210000Z
LOCATION:Tomsgårdsvej 35\, Kph NV
CATEGORIES:KEK arangxo.
CLASS:PUBLIC
END:VEVENT
END:VCALENDAR
