BEGIN:VCALENDAR
PRODID:-//AT Content Types//AT Event//EN
VERSION:1.0
BEGIN:VEVENT
DTSTART:20100517T193000Z
DTEND:20100517T210000Z
DCREATED:20100516T155647Z
UID:ATEvent-817263dd9c2b6f7b0115d9d5e392fa7c
SEQUENCE:0
LAST-MODIFIED:20100516T182739Z
SUMMARY:Legantletero\, Jens donas konsilojn
DESCRIPTION:Jens Stengaard Larsen donos al ni bonajn ideojn pri la skr
 ibado de legantleteroj. - Pri menuo de la kafejo\: http\://kubik.kk.dk
 /kulturhuset-nv/kafeen-1
LOCATION:Tomsgårdsvej 35\, 2400 Kph NV
PRIORITY:3
TRANSP:0
END:VEVENT
END:VCALENDAR
