BEGIN:VCALENDAR
PRODID:-//AT Content Types//AT Event//EN
VERSION:1.0
BEGIN:VEVENT
DTSTART:20090112T190000Z
DTEND:20090112T210000Z
DCREATED:20090111T134340Z
UID:ATEvent-054aad192ed527861cd7b2334a468586
SEQUENCE:0
LAST-MODIFIED:20090111T134340Z
SUMMARY:"Laoso la estonteco kaj la turismo" prelego
DESCRIPTION:Jan kaj Lene Niemann prezentas
LOCATION:Dorhteavej 61
PRIORITY:3
TRANSP:0
END:VEVENT
END:VCALENDAR
