BEGIN:VCALENDAR
PRODID:-//AT Content Types//AT Event//EN
VERSION:2.0
METHOD:PUBLISH
BEGIN:VEVENT
DTSTAMP:20260423T014013Z
CREATED:20080606T115934Z
UID:ATEvent-cc29dbed032811f76b74efeaaea248a3
LAST-MODIFIED:20080606T115934Z
SUMMARY:La 3-a Kopenhaga Lingvo-festivalo 2008
DTSTART:20080921T110000Z
DTEND:20080921T163000Z
DESCRIPTION:Cxiujare KEK\, DEA  la dana 'modersmåls-selskab' kaj la k
 ulturdomo kunlabore okazigos la 3-an Kopenhagan Lingvo-festivalon.
LOCATION:kulturdomo\, Dortheavej 61\, 2400 København NV
CONTACT:Betty Chatterjee\, +45 44 48  47 26/ +45 28 18  07 60\, chatterjeebetty@hotmail.com
CLASS:PUBLIC
END:VEVENT
END:VCALENDAR
