BEGIN:VCALENDAR
PRODID:-//AT Content Types//AT Event//EN
VERSION:2.0
METHOD:PUBLISH
BEGIN:VEVENT
DTSTAMP:20260423T013907Z
CREATED:20090213T220635Z
UID:ATEvent-5f2bfdf23fc7d2e9ea442cb3544c9b41
LAST-MODIFIED:20090214T081513Z
SUMMARY:La 10-a Internacia Patrinlingva Tago
DTSTART:20090216T193000Z
DTEND:20090216T213000Z
DESCRIPTION:La programo ĉe KEK
LOCATION:Tomsgårdsvej 35\, 2400 Kph NV
CLASS:PUBLIC
END:VEVENT
END:VCALENDAR
