BEGIN:VCALENDAR
PRODID:-//AT Content Types//AT Event//EN
VERSION:1.0
BEGIN:VEVENT
DTSTART:20090810T193000Z
DTEND:20090810T213000Z
DCREATED:20090806T091120Z
UID:ATEvent-840d08cd2c54e11c1e7167f7992e79b8
SEQUENCE:0
LAST-MODIFIED:20090808T154652Z
SUMMARY:Kursoj kaj prelego pri Cseh
LOCATION:Dortheavej 61\, 2400 Kph NV
PRIORITY:3
TRANSP:0
END:VEVENT
END:VCALENDAR
