BEGIN:VCALENDAR
PRODID:-//AT Content Types//AT Event//EN
VERSION:1.0
BEGIN:VEVENT
DTSTART:20090131T120000Z
DTEND:20090201T170000Z
DCREATED:20090119T070134Z
UID:ATEvent-2939b44fdb53807d665370d3edda5c47
SEQUENCE:0
LAST-MODIFIED:20090119T071443Z
SUMMARY:Kurso de esperanto 31/1-1/2
DESCRIPTION:Kurso por komencantoj per la ĉe-metodo!\nKurs för nybör
 jare med naturmetoden!
LOCATION:Kronetorpsgatan 94\, Malmö
PRIORITY:3
TRANSP:0
END:VEVENT
END:VCALENDAR
