BEGIN:VCALENDAR
PRODID:-//AT Content Types//AT Event//EN
VERSION:2.0
METHOD:PUBLISH
BEGIN:VEVENT
DTSTAMP:20260423T013856Z
CREATED:20110330T202332Z
UID:ATEvent-869c7fc9f0d3153daee73c54e146a6a4
LAST-MODIFIED:20110330T202332Z
SUMMARY:Kurs för nybörjare som kan lite esperanto
DTSTART:20110403T100000Z
DTEND:20110403T150000Z
DESCRIPTION:Välkommen på kurs nu på söndag 3/4 kl 12-17. Deltagara
 vgiften är 50 kr vilket inkluderar kaffe/bulle. Kursen ger möjlighet
  att komma ikapp en pågående kurs med andra deltagare\, som fortsät
 ter söndagen den 10/4 kl 13-17 och lördagen den 16 april från kl 14
  med deltagande i föreningens vårfest.\nAnmälan senast på fredag\,
  1/4 till sten@agado.net
LOCATION:Malmö Esperantoförening
CLASS:PUBLIC
END:VEVENT
END:VCALENDAR
