BEGIN:VCALENDAR
PRODID:-//AT Content Types//AT Event//EN
VERSION:1.0
BEGIN:VEVENT
DTSTART:20080423T183000Z
DTEND:20080423T205500Z
DCREATED:20080219T160402Z
UID:ATEvent-db305c24c40babe28779fc991834ce8f
SEQUENCE:0
LAST-MODIFIED:20080219T160402Z
SUMMARY:Kunportu objekton kaj rakontu pri g'i
DESCRIPTION:Ekzercu konversacion!
LOCATION:Kronetorpsgatan 94 Malmö
PRIORITY:3
TRANSP:0
END:VEVENT
END:VCALENDAR
