BEGIN:VCALENDAR
PRODID:-//AT Content Types//AT Event//EN
VERSION:1.0
BEGIN:VEVENT
DTSTART:20091019T193000Z
DTEND:20091019T210000Z
DCREATED:20091016T093158Z
UID:ATEvent-fb7960d33dc3904b6993cb5e8b508b4d
SEQUENCE:0
LAST-MODIFIED:20091016T154128Z
SUMMARY:Kunportu objekton kaj rakontu pri ĝi. Aŭ elektu la tradukadon!
LOCATION:Tomsgårdsvej 35\, Kph NV
PRIORITY:3
TRANSP:0
END:VEVENT
END:VCALENDAR
