BEGIN:VCALENDAR
PRODID:-//AT Content Types//AT Event//EN
VERSION:1.0
BEGIN:VEVENT
DTSTART:20090316T193000Z
DTEND:20090316T210000Z
DCREATED:20090314T100906Z
UID:ATEvent-21fba7022bb88b88cd0d3dfc7b91f6b2
SEQUENCE:0
LAST-MODIFIED:20090315T060624Z
SUMMARY:Kunportu objekton kaj priskribu ĝin!
DESCRIPTION:La programo ĉe KEK
LOCATION:Tomsgårdsvej 35\, 2400 Kph. NV
PRIORITY:3
TRANSP:0
END:VEVENT
END:VCALENDAR
