BEGIN:VCALENDAR
PRODID:-//AT Content Types//AT Event//EN
VERSION:1.0
BEGIN:VEVENT
DTSTART:20090707T000000Z
DTEND:20090712T120000Z
DCREATED:20090611T094905Z
UID:ATEvent-f5eabb7182009bb94a241ac5784c587b
SEQUENCE:0
LAST-MODIFIED:20090705T073529Z
SUMMARY:Kultura Esperanto Festivalo\, kef9
LOCATION:Helsingør
PRIORITY:3
TRANSP:0
END:VEVENT
END:VCALENDAR
