BEGIN:VCALENDAR
PRODID:-//AT Content Types//AT Event//EN
VERSION:2.0
METHOD:PUBLISH
BEGIN:VEVENT
DTSTAMP:20260423T013222Z
CREATED:20091212T104958Z
UID:ATEvent-9bc76e241d5881f93aeda86013d06a0d
LAST-MODIFIED:20091212T203221Z
SUMMARY:Kristnaskfesto
DTSTART:20091214T193000Z
DTEND:20091214T210000Z
LOCATION:Tomsgårdsvej 35\, 2400 Kph NV
CLASS:PUBLIC
END:VEVENT
END:VCALENDAR
