BEGIN:VCALENDAR
PRODID:-//AT Content Types//AT Event//EN
VERSION:1.0
BEGIN:VEVENT
DTSTART:20070623T094000Z
DTEND:20070623T094000Z
DCREATED:20070625T094021Z
UID:ATEvent-301ad26cbbc6aecb673c052472d8157e
SEQUENCE:0
LAST-MODIFIED:20070625T094021Z
SUMMARY:Koncerto\: Hotel Desperado
DESCRIPTION:sabate la 23a junio - skt. Hans Aften - la orkestro Hotel 
 Desperado koncertas en la kulturdomo Karens Minde ek de la 19a horo Es
 tas senpage. Vidu pli c'e www.kmkulturhus.dk
PRIORITY:3
TRANSP:0
END:VEVENT
END:VCALENDAR
