BEGIN:VCALENDAR
PRODID:-//AT Content Types//AT Event//EN
VERSION:2.0
METHOD:PUBLISH
BEGIN:VEVENT
DTSTAMP:20260423T014009Z
CREATED:20100908T083251Z
UID:ATEvent-04ce8622321ff63af2c348ebe4920478
LAST-MODIFIED:20100908T083251Z
SUMMARY:Kio estas la plej videnda vidindaĵo en Kopenhago?
DTSTART:20100913T190000Z
DTEND:20100913T210000Z
DESCRIPTION:Jen ege debatinda temo.
LOCATION:Tomgårdsvej 35\, 2400 Kopenhago NV
CATEGORIES:KEK arangxo.
CONTACT:Betty Chatterjee\, +45 38891013\, chatterjeebetty@hotmail.com
URL:www.esperanto.dk
CLASS:PUBLIC
END:VEVENT
END:VCALENDAR
