BEGIN:VCALENDAR
PRODID:-//AT Content Types//AT Event//EN
VERSION:2.0
METHOD:PUBLISH
BEGIN:VEVENT
DTSTAMP:20260423T012729Z
CREATED:20090123T101723Z
UID:ATEvent-890c4b4ed95fe2eca9088759d77977cf
LAST-MODIFIED:20090123T101723Z
SUMMARY:KEK en nova ejo!
DTSTART:20090126T193000Z
DTEND:20090126T220000Z
DESCRIPTION:MUZIK-KVIZO\, progr. de KEK en la nova adreso!
LOCATION:Tomsgårdsvej 35\, 2400 Kph NV
CLASS:PUBLIC
END:VEVENT
END:VCALENDAR
