BEGIN:VCALENDAR
PRODID:-//AT Content Types//AT Event//EN
VERSION:1.0
BEGIN:VEVENT
DTSTART:20080512T000000Z
DTEND:20080512T000000Z
DCREATED:20080422T071410Z
UID:ATEvent-bb2c2ce13b7ddca57a657b37020df91d
SEQUENCE:0
LAST-MODIFIED:20080422T071410Z
SUMMARY:KEK ekskurso
DESCRIPTION:KEK ekskursos okaze de la pentekosto  al Høng.
LOCATION:Poppellunden 26\, 4270 Høng\, Danio
PRIORITY:3
TRANSP:0
END:VEVENT
END:VCALENDAR
