BEGIN:VCALENDAR
PRODID:-//AT Content Types//AT Event//EN
VERSION:2.0
METHOD:PUBLISH
BEGIN:VEVENT
DTSTAMP:20260423T013633Z
CREATED:20080522T092423Z
UID:ATEvent-1d57a950b2cbfe98d135c6412de2fe45
LAST-MODIFIED:20080604T083736Z
SUMMARY:KEK/DEJO Prelego - Nina Tofte Hansen.
DTSTART:20080602T193000Z
DTEND:20080602T210000Z
DESCRIPTION:Pri ekologio.
LOCATION:kulturdomo\, Dortheavej 61\, 2400 København NV
CONTACT:Betty Chatterjee\, chatterjeebetty@hotmail.com
CLASS:PUBLIC
END:VEVENT
END:VCALENDAR
