BEGIN:VCALENDAR
PRODID:-//AT Content Types//AT Event//EN
VERSION:2.0
METHOD:PUBLISH
BEGIN:VEVENT
DTSTAMP:20260423T012559Z
CREATED:20080522T091159Z
UID:ATEvent-724cb2325e4f985f3a14278a769a22b7
LAST-MODIFIED:20080522T091343Z
SUMMARY:KEK
DTSTART:20080526T193000Z
DTEND:20080526T210000Z
DESCRIPTION:Studgrupo.
LOCATION:KEK. Kulturdomo\, Dortheasvej 61\, 2400 Kopenhago NV
CLASS:PUBLIC
END:VEVENT
END:VCALENDAR
