BEGIN:VCALENDAR
PRODID:-//AT Content Types//AT Event//EN
VERSION:2.0
METHOD:PUBLISH
BEGIN:VEVENT
DTSTAMP:20260423T012920Z
CREATED:20090207T175412Z
UID:ATEvent-d623d561de32f2a2a36d5c8403e4ec45
LAST-MODIFIED:20090207T175412Z
SUMMARY:KEK-aranĝo\, studgrupo
DTSTART:20090209T193000Z
DTEND:20090209T213000Z
DESCRIPTION:Klubkunveno de KEK\, studgrupo
LOCATION:Tomsgårdsvej 35\, 2400 Kph NV
CLASS:PUBLIC
END:VEVENT
END:VCALENDAR
