BEGIN:VCALENDAR
PRODID:-//AT Content Types//AT Event//EN
VERSION:1.0
BEGIN:VEVENT
DTSTART:20080505T193000Z
DTEND:20080505T210000Z
DCREATED:20080504T055721Z
UID:ATEvent-617ea37a4444c650042e55a7b4d49f71
SEQUENCE:0
LAST-MODIFIED:20080504T055721Z
SUMMARY:KEK-a Kortludado.
DESCRIPTION:Kortludado\, sed ne pokero!
LOCATION:kulturdomo\, Dortheavej 61\, 2400 København NV
PRIORITY:3
TRANSP:0
END:VEVENT
END:VCALENDAR
