BEGIN:VCALENDAR
PRODID:-//AT Content Types//AT Event//EN
VERSION:2.0
METHOD:PUBLISH
BEGIN:VEVENT
DTSTAMP:20260423T013421Z
CREATED:20090911T115903Z
UID:ATEvent-c4d6821c60e98966a1b09e51d12f651d
LAST-MODIFIED:20090911T115903Z
SUMMARY:Kantado + vidi bildojn\, Bjalistok
DTSTART:20090914T193000Z
DTEND:20090914T210000Z
LOCATION:Tomsgårdsvej 35\, 2a etaĝo
CATEGORIES:KEK arangxo.
CLASS:PUBLIC
END:VEVENT
END:VCALENDAR
