BEGIN:VCALENDAR
PRODID:-//AT Content Types//AT Event//EN
VERSION:2.0
METHOD:PUBLISH
BEGIN:VEVENT
DTSTAMP:20260423T054831Z
CREATED:20091212T104958Z
UID:ATEvent-8ffc4fe8c4b00dcfa84c53bc3c8d3be7
LAST-MODIFIED:20091212T203221Z
SUMMARY:Julefest
DTSTART:20091214T193000Z
DTEND:20091214T210000Z
LOCATION:Tomsgårdsvej 35\, 2400 Kph NV
CLASS:PUBLIC
END:VEVENT
END:VCALENDAR
