BEGIN:VCALENDAR
PRODID:-//AT Content Types//AT Event//EN
VERSION:1.0
BEGIN:VEVENT
DTSTART:20090223T193000Z
DTEND:20090223T210000Z
DCREATED:20090222T072450Z
UID:ATEvent-3de80f78769b5af01fb2a3256c539605
SEQUENCE:0
LAST-MODIFIED:20090223T101604Z
SUMMARY:Jarkunveno de KEK
LOCATION:Tomsgårdsvej 35
PRIORITY:3
TRANSP:0
END:VEVENT
END:VCALENDAR
