BEGIN:VCALENDAR
PRODID:-//AT Content Types//AT Event//EN
VERSION:2.0
METHOD:PUBLISH
BEGIN:VEVENT
DTSTAMP:20260423T055848Z
CREATED:20080219T153154Z
UID:ATEvent-8e39b7af5eb14f5c8b30397bdc36e6e3
LAST-MODIFIED:20080220T194207Z
SUMMARY:Jarkunsido de KEM\, Malmö kaj "La estonteco de la klubo"
DTSTART:20080312T183000Z
DTEND:20080312T213000Z
DESCRIPTION:Post la jarkunsido okazos grava diskuto pri la estonteco d
 e la klubo.
LOCATION:Kronetorpsgatan 94\, Malmö
CLASS:PUBLIC
END:VEVENT
END:VCALENDAR
