BEGIN:VCALENDAR
PRODID:-//AT Content Types//AT Event//EN
VERSION:1.0
BEGIN:VEVENT
DTSTART:20080106T130000Z
DTEND:20080106T170000Z
DCREATED:20071119T092222Z
UID:ATEvent-73952afc14c53082130faf694865c6b0
SEQUENCE:0
LAST-MODIFIED:20080108T213454Z
SUMMARY:Post sukcesa jubilea festo de KEK jam aperis favora artikolo!
DESCRIPTION:Lundon la 7-an de januaro\: Hodiaux vi povos legi favoran 
 artikolon pri la festo kaj pri Mikaelo Bronsxtejn en la dana gazeto 'J
 yllandsposten'
LOCATION:Dortheasvej 61
PRIORITY:3
TRANSP:0
END:VEVENT
END:VCALENDAR
