BEGIN:VCALENDAR
PRODID:-//AT Content Types//AT Event//EN
VERSION:2.0
METHOD:PUBLISH
BEGIN:VEVENT
DTSTAMP:20260423T012605Z
CREATED:20090806T083807Z
UID:ATEvent-0debf0bb0f1aa3947e3ac6fac0286aed
LAST-MODIFIED:20090806T083807Z
SUMMARY:Integrationsdag\, Kbh.
DTSTART:20090829T120000Z
DTEND:20090829T180000Z
LOCATION:Peblinge Dossering/Dr.Louises Bro
CATEGORIES:KEK arangxo.
CLASS:PUBLIC
END:VEVENT
END:VCALENDAR
