BEGIN:VCALENDAR
PRODID:-//AT Content Types//AT Event//EN
VERSION:2.0
METHOD:PUBLISH
BEGIN:VEVENT
DTSTAMP:20260423T014116Z
CREATED:20080412T033529Z
UID:ATEvent-9742d9c93f005e37d322b305490b9848
LAST-MODIFIED:20080412T033529Z
SUMMARY:Historia Ekspozicio okaze de la 100 jara datreveno de DEA - Malfermaj Tagoj
DTSTART:20080416T130000Z
DTEND:20080417T180000Z
DESCRIPTION:Venu viziti la interesan ekspozicion pri la historio de Es
 peranto en Danio.  Iuj\, kiuj ne partoprenos la DEA kongreson la venon
 tan semajnfinon\, povos gxui la ekspozicion dum la du malfermaj postta
 gmezoj je la 13-a gxis la 18-a. Ne forgesu informi al la neesperantist
 a geamikaro pri tiu cxi ununura ebleco. Mogens Rude Andersen la cxefa 
 respondeculo pri la ekspozicio antauxgxojas bonvenigi vin.
LOCATION:kulturdomo\, Dortheavej 61\, 2400 København NV
CLASS:PUBLIC
END:VEVENT
END:VCALENDAR
