BEGIN:VCALENDAR
PRODID:-//AT Content Types//AT Event//EN
VERSION:1.0
BEGIN:VEVENT
DTSTART:20090605T140000Z
DTEND:20090605T183000Z
DCREATED:20090531T034523Z
UID:ATEvent-fc2bc6bd956a87540fbc9873c24c42da
SEQUENCE:0
LAST-MODIFIED:20090601T020132Z
SUMMARY:Grundlovsfest ved Kulturhuset NV. Espo Despo (Amir) spiller
LOCATION:Birkedommervej 43
PRIORITY:3
TRANSP:0
END:VEVENT
END:VCALENDAR
