BEGIN:VCALENDAR
PRODID:-//AT Content Types//AT Event//EN
VERSION:1.0
BEGIN:VEVENT
DTSTART:20100104T193000Z
DTEND:20100104T210000Z
DCREATED:20091231T095228Z
UID:ATEvent-f147ae514d6ab7210cd043bc5c0d271b
SEQUENCE:0
LAST-MODIFIED:20100101T094802Z
SUMMARY:Godt nytår
DESCRIPTION:Hver bidrager med sin underholdning
LOCATION:Tomsgårdsvej 35\, 2400 Kph NV
PRIORITY:3
TRANSP:0
END:VEVENT
END:VCALENDAR
