BEGIN:VCALENDAR
PRODID:-//AT Content Types//AT Event//EN
VERSION:2.0
METHOD:PUBLISH
BEGIN:VEVENT
DTSTAMP:20260423T013758Z
CREATED:20080606T114139Z
UID:ATEvent-90191016326013deda855afb29a07e6d
LAST-MODIFIED:20080606T123739Z
SUMMARY:Gastoj de Slovakio kaj Cxehxio.
DTSTART:20080609T193000Z
DTEND:20080609T210000Z
DESCRIPTION:Astrid kaj Erik Mortensen nuntempe gastigos Fejfin el Slov
 akio kaj Jannen el Cxehxio. La gastoj vizitante la klubon prelegos pri
  siaj landoj kaj kulturoj.\nBonvenon al cxiuj!
LOCATION:kulturdomo\, Dortheavej 61\, 2400 København NV
CONTACT:Betty Chatterjee\, +45 44 48  47 26/ +45 28 18  07 60\, chatterjeebetty@hotmail.com
CLASS:PUBLIC
END:VEVENT
END:VCALENDAR
