BEGIN:VCALENDAR
PRODID:-//AT Content Types//AT Event//EN
VERSION:2.0
METHOD:PUBLISH
BEGIN:VEVENT
DTSTAMP:20260423T061629Z
CREATED:20080115T145838Z
UID:ATEvent-49fc492349f61aa4c023812f582f97da
LAST-MODIFIED:20080130T131452Z
SUMMARY:Europa Socia Forumo en Malmö
DTSTART:20080917T080000Z
DTEND:20080921T230000Z
DESCRIPTION:Det är nu bestämt att huvuddelen av ESF hamnar i Malmö\
 , i och omkring Folkets Park mitt i centrala Malmö. Reservera den 18-
 21 september 2008 i almanackan redan nu!\nÄven om huvudelen av forume
 t kommer att gå av stapeln i Malmö\, kommer det även att hända sak
 er i Köpenhamn\, eventuellt i form av en förkonferens.
LOCATION:Malmö
CLASS:PUBLIC
END:VEVENT
END:VCALENDAR
