BEGIN:VCALENDAR
PRODID:-//AT Content Types//AT Event//EN
VERSION:2.0
METHOD:PUBLISH
BEGIN:VEVENT
DTSTAMP:20260423T013348Z
CREATED:20070524T134528Z
UID:ATEvent-e3dcec3bbc53b1291eadb5810a341219
LAST-MODIFIED:20071006T051343Z
SUMMARY:Estrarkunsido de KEM 13/6
DTSTART:20070612T153000Z
DTEND:20070612T190000Z
DESCRIPTION:La estraro de Klubo Esperantista de Malmö kunvenos 13/6\,
  je la 17.30h en Zenith. La kunsido estas nepublika sed bonvenas ideoj
  kaj proponoj.
CLASS:PUBLIC
END:VEVENT
END:VCALENDAR
