BEGIN:VCALENDAR
PRODID:-//AT Content Types//AT Event//EN
VERSION:1.0
BEGIN:VEVENT
DTSTART:20090302T193000Z
DTEND:20090302T210000Z
DCREATED:20090228T135423Z
UID:ATEvent-1a20e0a2d6e452640687a882d183411e
SEQUENCE:0
LAST-MODIFIED:20090228T180414Z
SUMMARY:Esperantaĵoj ĉe la reto
DESCRIPTION:Lundon la 2-an de marto Regin Larsen montros al ni kelkajn
  el la mirindaj esperantaĵoj ĉe la reto.
LOCATION:Dortheavej 61\, 1.
PRIORITY:3
TRANSP:0
END:VEVENT
END:VCALENDAR
