BEGIN:VCALENDAR
PRODID:-//AT Content Types//AT Event//EN
VERSION:2.0
METHOD:PUBLISH
BEGIN:VEVENT
DTSTAMP:20260423T100905Z
CREATED:20080430T131426Z
UID:ATEvent-306a3484d42a69bbffdd0147a79e7251
LAST-MODIFIED:20080608T104818Z
SUMMARY:Ekskurso en Helsingborg 2008-06-14
DTSTART:20080614T120000Z
DTEND:20080614T160000Z
DESCRIPTION:Ekskurso en la parko de Ramlösa kun gvidado en esperanto
LOCATION:Helsingborg
CONTACT:Ann-Louise\, 042-29 12 62\, al_akerlund@yahoo.se
CLASS:PUBLIC
END:VEVENT
END:VCALENDAR
