BEGIN:VCALENDAR
PRODID:-//AT Content Types//AT Event//EN
VERSION:1.0
BEGIN:VEVENT
DTSTART:20090525T190000Z
DTEND:20090525T210000Z
DCREATED:20090521T115631Z
UID:ATEvent-1a1a362da26d0bbeefddaf785a99700b
SEQUENCE:0
LAST-MODIFIED:20090521T121244Z
SUMMARY:Ekskurso de KEK al "Krøgers Familiehave"
LOCATION:Pile Allé 18\, 2000 Fr.berg
PRIORITY:3
TRANSP:0
END:VEVENT
END:VCALENDAR
