BEGIN:VCALENDAR
PRODID:-//AT Content Types//AT Event//EN
VERSION:2.0
METHOD:PUBLISH
BEGIN:VEVENT
DTSTAMP:20260423T055611Z
CREATED:20080525T085757Z
UID:ATEvent-c913de0d731d9fdecdb18cfdfef99036
LAST-MODIFIED:20080525T085757Z
SUMMARY:Ekskurso al Lillarp
DTSTART:20080601T110000Z
DTEND:20080601T150000Z
DESCRIPTION:Nia 94-jara membro Leon Salomonsson invitis al sia malnova
  somerdomo en Lillarp.\nBonvolu kontakti Gerd Rodén\, telefono 040-91
 4620\, se vi volas partopreni. Eventuale eblas kunvojaĝi en ies aŭto
 .
LOCATION:Lillarp\, Skanio
CONTACT:Gerd Rodén\, 040-914620
CLASS:PUBLIC
END:VEVENT
END:VCALENDAR
