BEGIN:VCALENDAR
PRODID:-//AT Content Types//AT Event//EN
VERSION:1.0
BEGIN:VEVENT
DTSTART:20080405T110000Z
DTEND:20080405T230000Z
DCREATED:20080402T060017Z
UID:ATEvent-6077dd696988f482f8c3278f98cd8eac
SEQUENCE:0
LAST-MODIFIED:20080402T101122Z
SUMMARY:DSB-faka ekskurso
DESCRIPTION:- ankau por ne-fervojistoj
LOCATION:Helsingør
PRIORITY:3
TRANSP:0
END:VEVENT
END:VCALENDAR
